BEGIN:VCALENDAR
VERSION:2.0
PRODID:-//wp-events-plugin.com//7.2.3.1//EN
BEGIN:VEVENT
UID:54@robert-hotstegs.de
DTSTART;TZID=Europe/Berlin:20070825T000000
DTEND;TZID=Europe/Berlin:20070825T000000
DTSTAMP:20260318T203143Z
URL:https://www.robert-hotstegs.de/events/picknick-im-park-2007/
SUMMARY:Bühnenprogramm "Picknick im Park"
DESCRIPTION:Stadtjugendring Kaarst
CATEGORIES:Moderation
LOCATION:Stadtpark Kaarst\, Am Neumarkt 1\, Kaarst\, Nordrhein-Westfalen\, 
 41564\, Deutschland
X-APPLE-STRUCTURED-LOCATION;VALUE=URI;X-ADDRESS=Am Neumarkt 1\, Kaarst\, No
 rdrhein-Westfalen\, 41564\, Deutschland;X-APPLE-RADIUS=100;X-TITLE=Stadtpa
 rk Kaarst:geo:0,0
END:VEVENT
BEGIN:VTIMEZONE
TZID:Europe/Berlin
X-LIC-LOCATION:Europe/Berlin
BEGIN:DAYLIGHT
DTSTART:20070325T030000
TZOFFSETFROM:+0100
TZOFFSETTO:+0200
TZNAME:CEST
END:DAYLIGHT
END:VTIMEZONE
END:VCALENDAR