BEGIN:VCALENDAR
VERSION:2.0
PRODID:-//wp-events-plugin.com//7.2.3.1//EN
BEGIN:VEVENT
UID:151@robert-hotstegs.de
DTSTART;TZID=Europe/Berlin:20260425T190000
DTEND;TZID=Europe/Berlin:20260425T223000
DTSTAMP:20260421T103347Z
URL:https://www.robert-hotstegs.de/events/geheimrezept-fuer-einen-mord-26-
 4/
SUMMARY:Geheimrezept für einen Mord
DESCRIPTION:Phönixallee – Düsseldorfs erstes Impro-Theater\n\neine Vera
 nstaltung der engesser marketing GmbH
ATTACH;FMTTYPE=image/jpeg:https://www.robert-hotstegs.de/wp-content/upload
 s/2026/04/kriminaldinner_logo.jpg
CATEGORIES:Bühne
END:VEVENT
BEGIN:VTIMEZONE
TZID:Europe/Berlin
X-LIC-LOCATION:Europe/Berlin
BEGIN:DAYLIGHT
DTSTART:20260329T030000
TZOFFSETFROM:+0100
TZOFFSETTO:+0200
TZNAME:CEST
END:DAYLIGHT
END:VTIMEZONE
END:VCALENDAR